BEGIN:VCALENDAR
VERSION:2.0
PRODID:-//Bethanys Hope Foundation - ECPv6.15.20//NONSGML v1.0//EN
CALSCALE:GREGORIAN
METHOD:PUBLISH
X-WR-CALNAME:Bethanys Hope Foundation
X-ORIGINAL-URL:https://bethanyshope.org
X-WR-CALDESC:Events for Bethanys Hope Foundation
REFRESH-INTERVAL;VALUE=DURATION:PT1H
X-Robots-Tag:noindex
X-PUBLISHED-TTL:PT1H
BEGIN:VTIMEZONE
TZID:America/Toronto
BEGIN:DAYLIGHT
TZOFFSETFROM:-0500
TZOFFSETTO:-0400
TZNAME:EDT
DTSTART:20240310T070000
END:DAYLIGHT
BEGIN:STANDARD
TZOFFSETFROM:-0400
TZOFFSETTO:-0500
TZNAME:EST
DTSTART:20241103T060000
END:STANDARD
BEGIN:DAYLIGHT
TZOFFSETFROM:-0500
TZOFFSETTO:-0400
TZNAME:EDT
DTSTART:20250309T070000
END:DAYLIGHT
BEGIN:STANDARD
TZOFFSETFROM:-0400
TZOFFSETTO:-0500
TZNAME:EST
DTSTART:20251102T060000
END:STANDARD
BEGIN:DAYLIGHT
TZOFFSETFROM:-0500
TZOFFSETTO:-0400
TZNAME:EDT
DTSTART:20260308T070000
END:DAYLIGHT
BEGIN:STANDARD
TZOFFSETFROM:-0400
TZOFFSETTO:-0500
TZNAME:EST
DTSTART:20261101T060000
END:STANDARD
END:VTIMEZONE
BEGIN:VEVENT
DTSTART;TZID=America/Toronto:20250215T170000
DTEND;TZID=America/Toronto:20250215T233000
DTSTAMP:20260421T043807
CREATED:20241204T204023Z
LAST-MODIFIED:20241213T145305Z
UID:3897-1739638800-1739662200@bethanyshope.org
SUMMARY:The Lady In Red Charity Gala
DESCRIPTION:“The Lady in Red”  \nCharity Gala & Celebration! \n           \n\nIt’s time to gather and celebrate on Saturday\, February 15th\, 2025 when our Foundation will present a premiere culinary fundraising Valentine Gala appropriately named\, “The Lady in Red” at the very distinguished\nLondon Hunt and Country Club! \nThis wonderful evening\, very generously presented by our signature sponsors at \nRembrandt Homes and C & V Income Tax Services will be co-hosted by a very special guest along with our multi-talented Foundation Director\, Mr. Jon Munn!! \nYour experience will include our fabulous cocktail hour with the Hunt Club’s amazing canapé offerings\, a spectacular seasonal dinner created by their Executive Chef Michael Stark as well as Silent & Live Auctions. We are sure to get the Hunt Club rock’in once again with musical performances throughout the evening by the very accomplished Mr. Paul Zubot & his Band of Friends!! \nWe sincerely hope you will join our many friends at “The Lady in Red” – Charity Gala to help us make a difference! We have reduced the seats this year to make more room for the party!! There are ONLY 200 seats available this year…. each $225.00 ticket purchased will include a $75.00 tax receipt. For a limited time….save some money …gather 10 of your family and/or your best friends and book a table for only $2\,000.00 (please book early). \nFunds raised from “The Lady in Red” will support “Bethany’s Hope Leukodystrophy Laboratory” here in London under the direction of Dr. Tony Rupar & Dr. Stephanie Newman of Western University.\n \nPlease contact me by email – lindey@bethanyshope.org \, office phone @ (519) 642-7589 or my cell phone\n@ (519) 495-7281 for more information! \nWith hope\, \nLindey L. McIntyre\, MSC\nExecutive Director \n \nCheck out our photo gallery from our previous Gala (The Party 2.0)!  \n \nThank you to our Presenting Sponsor!
URL:https://bethanyshope.org/event/the-lady-in-red-charity-gala/
LOCATION:The London Hunt Club\, 1431 Oxford St W\, London\, Ontario\, N6H 1W1\, Canada
ATTACH;FMTTYPE=image/jpeg:https://bethanyshope.org/wp-content/uploads/2024/12/Mockup-01-scaled-e1733331045998.jpg
ORGANIZER;CN="Bethanys Hope":MAILTO:info@bethanyshope.org
END:VEVENT
END:VCALENDAR