BEGIN:VCALENDAR
VERSION:2.0
PRODID:-//Bethanys Hope Foundation - ECPv6.15.20//NONSGML v1.0//EN
CALSCALE:GREGORIAN
METHOD:PUBLISH
X-ORIGINAL-URL:https://bethanyshope.org
X-WR-CALDESC:Events for Bethanys Hope Foundation
REFRESH-INTERVAL;VALUE=DURATION:PT1H
X-Robots-Tag:noindex
X-PUBLISHED-TTL:PT1H
BEGIN:VTIMEZONE
TZID:America/Toronto
BEGIN:DAYLIGHT
TZOFFSETFROM:-0500
TZOFFSETTO:-0400
TZNAME:EDT
DTSTART:20250309T070000
END:DAYLIGHT
BEGIN:STANDARD
TZOFFSETFROM:-0400
TZOFFSETTO:-0500
TZNAME:EST
DTSTART:20251102T060000
END:STANDARD
BEGIN:DAYLIGHT
TZOFFSETFROM:-0500
TZOFFSETTO:-0400
TZNAME:EDT
DTSTART:20260308T070000
END:DAYLIGHT
BEGIN:STANDARD
TZOFFSETFROM:-0400
TZOFFSETTO:-0500
TZNAME:EST
DTSTART:20261101T060000
END:STANDARD
BEGIN:DAYLIGHT
TZOFFSETFROM:-0500
TZOFFSETTO:-0400
TZNAME:EDT
DTSTART:20270314T070000
END:DAYLIGHT
BEGIN:STANDARD
TZOFFSETFROM:-0400
TZOFFSETTO:-0500
TZNAME:EST
DTSTART:20271107T060000
END:STANDARD
END:VTIMEZONE
BEGIN:VEVENT
DTSTART;TZID=America/Toronto:20260228T170000
DTEND;TZID=America/Toronto:20260228T233000
DTSTAMP:20260420T063230
CREATED:20251121T230545Z
LAST-MODIFIED:20260304T224605Z
UID:4160-1772298000-1772321400@bethanyshope.org
SUMMARY:Somewhere Over The Rainbow
DESCRIPTION:SOMEWHERE OVER THE RAINBOW \nCharity Gala & Celebration! \n       \n A night of Hope…! \nWhat a great way to kick off a New Year…..to gather and celebrate on Saturday\, February 28th\, 2026 when our Foundation will present a premiere culinary fundraising Gala –“SOMEWHERE OVER THE RAINBOW”  at the very distinguished London Hunt and Country Club!   \nYour experience will include our fabulous cocktail hour with the Hunt Club’s amazing canapé offerings\, a spectacular seasonal dinner created by their Executive Chef Michael Stark as well as Silent & Live Auctions.  We are sure to get the Hunt Club rock’in once again with musical performances throughout the evening by the very accomplished Mr. Paul Zubot with “The Journeymen of Soul” and vocalist Shelly Faris! \nThanks to so many in this generous community we have completed over 29 years of uninterrupted cutting edge Research for Metachromatic Leukodystrophy (MLD)…at London’s own Children’s Health Research Institute… but we have more work! This is both an exciting and daunting time as we collectively begin the final push to find a treatment … a fully funded Clinical Trial thru Health Canada!  We can get there with your help\, funds raised from “SOMEWHERE OVER THE RAINBOW” will support “Bethanys Hope Leukodystrophy Research Laboratory” here in London under the direction of Dr. Stephanie Newman of Western University.  \n We sincerely hope you will join our many friends at “SOMEWHERE OVER THE RAINBOW – Charity Gala to help us make a difference!  We have reduced the seats this year to make more room for the Party!! There are ONLY 200 seats available this year…. each $225.00 ticket purchased will include a $75.00 Tax Receipt. For a Limited Time….Save some money …gather 10 of your family and/or your best friends and book a Table for only $2\,000.00. (Please book early).  \nDetails for this amazing Charity Dinner including Ticket purchases can be found on our Website at https://bethanyshope.org. For more information\, please contact me by email – lindey@bethanyshope.org or office phone @ (519) 642-7589 or my cell  @ (519) 495-7281. \n            \nWith hope\, \nLindey L. McIntyre\, MSC \nExecutive Director \n  \n \nThank you to our Presenting Sponsors!
URL:https://bethanyshope.org/event/somewhere-over-the-rainbow/
LOCATION:The London Hunt Club\, 1431 Oxford St W\, London\, Ontario\, N6H 1W1\, Canada
ATTACH;FMTTYPE=image/png:https://bethanyshope.org/wp-content/uploads/2025/11/LEARN-MORE-1.png
ORGANIZER;CN="Bethanys Hope":MAILTO:info@bethanyshope.org
END:VEVENT
END:VCALENDAR